BEGIN:VCALENDAR
VERSION:2.0
PRODID:-//Plone.org//NONSGML plone.app.event//EN
X-WR-TIMEZONE:Europe/Rome
BEGIN:VEVENT
SUMMARY:Imprese e matematica
DTSTART;TZID=Europe/Rome;VALUE=DATE-TIME:20221011T140000
DTEND;TZID=Europe/Rome;VALUE=DATE-TIME:20221011T170000
DTSTAMP;VALUE=DATE-TIME:20260423T004454Z
UID:6eea5fd2d1674c27ac7f880ddd6a568d@matematica.unibo.it
CREATED;VALUE=DATE-TIME:20220715T124649Z
DESCRIPTION:Un incontro con aziende leader di mercato per parlare delle mo
 lteplici possibilità di utilizzo della matematica nella creazione di prod
 otti e servizi di primo piano.
LAST-MODIFIED;VALUE=DATE-TIME:20230919T090324Z
URL:https://matematica.unibo.it/it/eventi/imprese-e-matematica-2022
END:VEVENT
BEGIN:VTIMEZONE
TZID:Europe/Rome
X-LIC-LOCATION:Europe/Rome
BEGIN:DAYLIGHT
DTSTART;VALUE=DATE-TIME:20220327T030000
TZNAME:CEST
TZOFFSETFROM:+0100
TZOFFSETTO:+0200
END:DAYLIGHT
END:VTIMEZONE
END:VCALENDAR
