BEGIN:VCALENDAR
VERSION:2.0
PRODID:-//Plone.org//NONSGML plone.app.event//EN
X-WR-TIMEZONE:Europe/Rome
BEGIN:VEVENT
SUMMARY:The many faces of dispersive equations
DTSTART;TZID=Europe/Rome;VALUE=DATE-TIME:20181221T110000
DTEND;TZID=Europe/Rome;VALUE=DATE-TIME:20181221T120000
DTSTAMP;VALUE=DATE-TIME:20260421T120056Z
UID:cb349ef2ce8c4994b3464715d3fbfe25@matematica.unibo.it
CREATED;VALUE=DATE-TIME:20181212T080016Z
DESCRIPTION:Colloquio di Dipartimento
LAST-MODIFIED;VALUE=DATE-TIME:20190129T124809Z
URL:https://matematica.unibo.it/it/eventi/the-many-faces-of-dispersive-equ
 ations
END:VEVENT
BEGIN:VTIMEZONE
TZID:Europe/Rome
X-LIC-LOCATION:Europe/Rome
BEGIN:STANDARD
DTSTART;VALUE=DATE-TIME:20181028T020000
TZNAME:CET
TZOFFSETFROM:+0200
TZOFFSETTO:+0100
END:STANDARD
END:VTIMEZONE
END:VCALENDAR
