BEGIN:VCALENDAR
VERSION:2.0
PRODID:-//Plone.org//NONSGML plone.app.event//EN
X-WR-TIMEZONE:Europe/Rome
BEGIN:VEVENT
SUMMARY:Workshop: Partial Differential Equations and Applications
DTSTART;VALUE=DATE:20170522
DTEND;VALUE=DATE:20170527
DTSTAMP;VALUE=DATE-TIME:20260422T201406Z
UID:af21a4fd9e7a4488acba72149c0cb6e9@matematica.unibo.it
CREATED;VALUE=DATE-TIME:20170420T065354Z
LAST-MODIFIED;VALUE=DATE-TIME:20170420T065511Z
URL:https://matematica.unibo.it/it/eventi/workshop-partial-differential-eq
 uations-and-applications
END:VEVENT
END:VCALENDAR
